Workbook

Sheet 01.01.2026
B2: Количество прикрепленного населения к медицинским организациям
B3: ="по состоянию на"&" "&TEXT([1]Расчёт!C2,"ДД.ММ.ГГГГ")&" "&"года" -> по состоянию на 01.01.2026 года
B4: НАИМЕНОВАНИЕ МО | C4: (ЧЕЛ.) | D4: ВЗРОСЛЫЕ: | E4: ДЕТИ:
B5: ГБУЗ КО "ГОРОДСКАЯ БОЛЬНИЦА № 3" | C5: =D5+E5 -> 106119 | D5: ='[1]Расчёт для ФИН'!Q9 -> 106119 | E5: ='[1]Расчёт для ФИН'!R9 -> 0
B6: ГБУЗ КО "ГОРОДСКАЯ БОЛЬНИЦА № 2" | C6: =D6+E6 -> 76551 | D6: ='[1]Расчёт для ФИН'!Q10 -> 76551 | E6: ='[1]Расчёт для ФИН'!R10 -> 0
B7: ГБУЗ КО "ГОРОДСКАЯ ПОЛИКЛИНИКА № 3" | C7: =D7+E7 -> 12103 | D7: ='[1]Расчёт для ФИН'!Q11 -> 12103 | E7: ='[1]Расчёт для ФИН'!R11 -> 0
B8: ГБУЗ КО "БАЛТИЙСКАЯ ЦРБ" | C8: =D8+E8 -> 25042 | D8: ='[1]Расчёт для ФИН'!Q12 -> 19825 | E8: ='[1]Расчёт для ФИН'!R12 -> 5217
B9: ГБУЗ КО "СВЕТЛОВСКАЯ ЦГБ" | C9: =D9+E9 -> 26743 | D9: ='[1]Расчёт для ФИН'!Q13 -> 22088 | E9: ='[1]Расчёт для ФИН'!R13 -> 4655
B10: ГБУЗ КО "СОВЕТСКАЯ ЦГБ" | C10: =D10+E10 -> 32258 | D10: ='[1]Расчёт для ФИН'!Q14 -> 26655 | E10: ='[1]Расчёт для ФИН'!R14 -> 5603
B11: ГБУЗ КО "БАГРАТИОНОВСКАЯ ЦРБ" | C11: =D11+E11 -> 23207 | D11: ='[1]Расчёт для ФИН'!Q15 -> 18576 | E11: ='[1]Расчёт для ФИН'!R15 -> 4631
B12: ГБУЗ КО "ГВАРДЕЙСКАЯ ЦРБ" | C12: =D12+E12 -> 24980 | D12: ='[1]Расчёт для ФИН'!Q16 -> 20290 | E12: ='[1]Расчёт для ФИН'!R16 -> 4690
B13: ГБУЗ КО "ГУРЬЕВСКАЯ ЦРБ" | C13: =D13+E13 -> 78832 | D13: ='[1]Расчёт для ФИН'!Q17 -> 60026 | E13: ='[1]Расчёт для ФИН'!R17 -> 18806
B14: ГБУЗ КО "ГУСЕВСКАЯ ЦРБ" | C14: =D14+E14 -> 27693 | D14: ='[1]Расчёт для ФИН'!Q18 -> 22194 | E14: ='[1]Расчёт для ФИН'!R18 -> 5499
B15: ГБУЗ КО "ЗЕЛЕНОГРАДСКАЯ ЦРБ" | C15: =D15+E15 -> 34624 | D15: ='[1]Расчёт для ФИН'!Q19 -> 27782 | E15: ='[1]Расчёт для ФИН'!R19 -> 6842
B16: ГБУЗ КО "НЕСТЕРОВСКАЯ ЦРБ" | C16: =D16+E16 -> 10516 | D16: ='[1]Расчёт для ФИН'!Q20 -> 8461 | E16: ='[1]Расчёт для ФИН'!R20 -> 2055
... B34: Застрахованные, прикрепленные к МО за пределами КО | C34: =D34+E34 -> 338 | D34: ='[1]Расчёт для ФИН'!Q38 -> 260 | E34: ='[1]Расчёт для ФИН'!R38 -> 78
B35: Итого по субъекту | C35: =SUM(C5:C34) -> 1057079 | D35: =SUM(D5:D34) -> 845297 | E35: =SUM(E5:E34) -> 211782

Sheet 01.02.2026
B2: Количество прикрепленного населения к медицинским организациям
B3: ="по состоянию на"&" "&TEXT([2]Расчёт!C2,"ДД.ММ.ГГГГ")&" "&"года" -> по состоянию на 01.02.2026 года
B4: НАИМЕНОВАНИЕ МО | C4: (ЧЕЛ.) | D4: ВЗРОСЛЫЕ: | E4: ДЕТИ:
B5: ГБУЗ КО "ГОРОДСКАЯ БОЛЬНИЦА № 3" | C5: =D5+E5 -> 106489 | D5: ='[2]Расчёт для ФИН'!Q9 -> 106489 | E5: ='[2]Расчёт для ФИН'!R9 -> 0
B6: ГБУЗ КО "ГОРОДСКАЯ БОЛЬНИЦА № 2" | C6: =D6+E6 -> 76730 | D6: ='[2]Расчёт для ФИН'!Q10 -> 76730 | E6: ='[2]Расчёт для ФИН'!R10 -> 0
B7: ГБУЗ КО "ГОРОДСКАЯ ПОЛИКЛИНИКА № 3" | C7: =D7+E7 -> 12110 | D7: ='[2]Расчёт для ФИН'!Q11 -> 12110 | E7: ='[2]Расчёт для ФИН'!R11 -> 0
B8: ГБУЗ КО "БАЛТИЙСКАЯ ЦРБ" | C8: =D8+E8 -> 25023 | D8: ='[2]Расчёт для ФИН'!Q12 -> 19819 | E8: ='[2]Расчёт для ФИН'!R12 -> 5204
B9: ГБУЗ КО "СВЕТЛОВСКАЯ ЦГБ" | C9: =D9+E9 -> 26719 | D9: ='[2]Расчёт для ФИН'!Q13 -> 22090 | E9: ='[2]Расчёт для ФИН'!R13 -> 4629
B10: ГБУЗ КО "СОВЕТСКАЯ ЦГБ" | C10: =D10+E10 -> 32227 | D10: ='[2]Расчёт для ФИН'!Q14 -> 26654 | E10: ='[2]Расчёт для ФИН'!R14 -> 5573
B11: ГБУЗ КО "БАГРАТИОНОВСКАЯ ЦРБ" | C11: =D11+E11 -> 23205 | D11: ='[2]Расчёт для ФИН'!Q15 -> 18594 | E11: ='[2]Расчёт для ФИН'!R15 -> 4611
B12: ГБУЗ КО "ГВАРДЕЙСКАЯ ЦРБ" | C12: =D12+E12 -> 24929 | D12: ='[2]Расчёт для ФИН'!Q16 -> 20263 | E12: ='[2]Расчёт для ФИН'!R16 -> 4666
B13: ГБУЗ КО "ГУРЬЕВСКАЯ ЦРБ" | C13: =D13+E13 -> 79136 | D13: ='[2]Расчёт для ФИН'!Q17 -> 60306 | E13: ='[2]Расчёт для ФИН'!R17 -> 18830
B14: ГБУЗ КО "ГУСЕВСКАЯ ЦРБ" | C14: =D14+E14 -> 27693 | D14: ='[2]Расчёт для ФИН'!Q18 -> 22192 | E14: ='[2]Расчёт для ФИН'!R18 -> 5501
B15: ГБУЗ КО "ЗЕЛЕНОГРАДСКАЯ ЦРБ" | C15: =D15+E15 -> 34641 | D15: ='[2]Расчёт для ФИН'!Q19 -> 27805 | E15: ='[2]Расчёт для ФИН'!R19 -> 6836
B16: ГБУЗ КО "НЕСТЕРОВСКАЯ ЦРБ" | C16: =D16+E16 -> 10487 | D16: ='[2]Расчёт для ФИН'!Q20 -> 8445 | E16: ='[2]Расчёт для ФИН'!R20 -> 2042
... B34: Застрахованные, прикрепленные к МО за пределами КО | C34: =D34+E34 -> 350 | D34: ='[2]Расчёт для ФИН'!Q38 -> 272 | E34: ='[2]Расчёт для ФИН'!R38 -> 78
B35: Итого по субъекту | C35: =SUM(C5:C34) -> 1058064 | D35: =SUM(D5:D34) -> 846537 | E35: =SUM(E5:E34) -> 211527

Sheet 01.03.2026
B2: Количество прикрепленного населения к медицинским организациям
B3: ="по состоянию на"&" "&TEXT([3]Расчёт!C2,"ДД.ММ.ГГГГ")&" "&"года" -> по состоянию на 01.03.2026 года
B4: НАИМЕНОВАНИЕ МО | C4: (ЧЕЛ.) | D4: ВЗРОСЛЫЕ: | E4: ДЕТИ:
B5: ГБУЗ КО "ГОРОДСКАЯ БОЛЬНИЦА № 3" | C5: =D5+E5 -> 107029 | D5: ='[3]Расчёт для ФИН'!Q9 -> 107029 | E5: ='[3]Расчёт для ФИН'!R9 -> 0
B6: ГБУЗ КО "ГОРОДСКАЯ БОЛЬНИЦА № 2" | C6: =D6+E6 -> 76962 | D6: ='[3]Расчёт для ФИН'!Q10 -> 76962 | E6: ='[3]Расчёт для ФИН'!R10 -> 0
B7: ГБУЗ КО "ГОРОДСКАЯ ПОЛИКЛИНИКА № 3" | C7: =D7+E7 -> 12094 | D7: ='[3]Расчёт для ФИН'!Q11 -> 12094 | E7: ='[3]Расчёт для ФИН'!R11 -> 0
B8: ГБУЗ КО "БАЛТИЙСКАЯ ЦРБ" | C8: =D8+E8 -> 24965 | D8: ='[3]Расчёт для ФИН'!Q12 -> 19786 | E8: ='[3]Расчёт для ФИН'!R12 -> 5179
B9: ГБУЗ КО "СВЕТЛОВСКАЯ ЦГБ" | C9: =D9+E9 -> 26694 | D9: ='[3]Расчёт для ФИН'!Q13 -> 22070 | E9: ='[3]Расчёт для ФИН'!R13 -> 4624
B10: ГБУЗ КО "СОВЕТСКАЯ ЦГБ" | C10: =D10+E10 -> 32157 | D10: ='[3]Расчёт для ФИН'!Q14 -> 26603 | E10: ='[3]Расчёт для ФИН'!R14 -> 5554
B11: ГБУЗ КО "БАГРАТИОНОВСКАЯ ЦРБ" | C11: =D11+E11 -> 23115 | D11: ='[3]Расчёт для ФИН'!Q15 -> 18517 | E11: ='[3]Расчёт для ФИН'!R15 -> 4598
B12: ГБУЗ КО "ГВАРДЕЙСКАЯ ЦРБ" | C12: =D12+E12 -> 24872 | D12: ='[3]Расчёт для ФИН'!Q16 -> 20223 | E12: ='[3]Расчёт для ФИН'!R16 -> 4649
B13: ГБУЗ КО "ГУРЬЕВСКАЯ ЦРБ" | C13: =D13+E13 -> 79456 | D13: ='[3]Расчёт для ФИН'!Q17 -> 60504 | E13: ='[3]Расчёт для ФИН'!R17 -> 18952
B14: ГБУЗ КО "ГУСЕВСКАЯ ЦРБ" | C14: =D14+E14 -> 27686 | D14: ='[3]Расчёт для ФИН'!Q18 -> 22171 | E14: ='[3]Расчёт для ФИН'!R18 -> 5515
B15: ГБУЗ КО "ЗЕЛЕНОГРАДСКАЯ ЦРБ" | C15: =D15+E15 -> 34734 | D15: ='[3]Расчёт для ФИН'!Q19 -> 27882 | E15: ='[3]Расчёт для ФИН'!R19 -> 6852
B16: ГБУЗ КО "НЕСТЕРОВСКАЯ ЦРБ" | C16: =D16+E16 -> 10455 | D16: ='[3]Расчёт для ФИН'!Q20 -> 8437 | E16: ='[3]Расчёт для ФИН'!R20 -> 2018
... B35: Итого по субъекту | C35: =D35+E35 -> 1058159 | D35: ='[3]Расчёт для ФИН'!Q39 -> 846976 | E35: ='[3]Расчёт для ФИН'!R39 -> 211183

Sheet 01.04.2026
B2: Количество прикрепленного населения к медицинским организациям
B3: ="по состоянию на"&" "&TEXT([4]Расчёт!C2,"ДД.ММ.ГГГГ")&" "&"года" -> по состоянию на 01.04.2026 года
B4: НАИМЕНОВАНИЕ МО | C4: (ЧЕЛ.) | D4: ВЗРОСЛЫЕ: | E4: ДЕТИ:
B5: ГБУЗ КО "ГОРОДСКАЯ БОЛЬНИЦА № 3" | C5: =D5+E5 -> 107239 | D5: ='[4]Расчёт для ФИН'!Q9 -> 107239 | E5: ='[4]Расчёт для ФИН'!R9 -> 0
B6: ГБУЗ КО "ГОРОДСКАЯ БОЛЬНИЦА № 2" | C6: =D6+E6 -> 77367 | D6: ='[4]Расчёт для ФИН'!Q10 -> 77367 | E6: ='[4]Расчёт для ФИН'!R10 -> 0
B7: ГБУЗ КО "ГОРОДСКАЯ ПОЛИКЛИНИКА № 3" | C7: =D7+E7 -> 12111 | D7: ='[4]Расчёт для ФИН'!Q11 -> 12111 | E7: ='[4]Расчёт для ФИН'!R11 -> 0
B8: ГБУЗ КО "БАЛТИЙСКАЯ ЦРБ" | C8: =D8+E8 -> 24938 | D8: ='[4]Расчёт для ФИН'!Q12 -> 19778 | E8: ='[4]Расчёт для ФИН'!R12 -> 5160
B9: ГБУЗ КО "СВЕТЛОВСКАЯ ЦГБ" | C9: =D9+E9 -> 26671 | D9: ='[4]Расчёт для ФИН'!Q13 -> 22052 | E9: ='[4]Расчёт для ФИН'!R13 -> 4619
B10: ГБУЗ КО "СОВЕТСКАЯ ЦГБ" | C10: =D10+E10 -> 32107 | D10: ='[4]Расчёт для ФИН'!Q14 -> 26582 | E10: ='[4]Расчёт для ФИН'!R14 -> 5525
B11: ГБУЗ КО "БАГРАТИОНОВСКАЯ ЦРБ" | C11: =D11+E11 -> 23085 | D11: ='[4]Расчёт для ФИН'!Q15 -> 18503 | E11: ='[4]Расчёт для ФИН'!R15 -> 4582
B12: ГБУЗ КО "ГВАРДЕЙСКАЯ ЦРБ" | C12: =D12+E12 -> 24803 | D12: ='[4]Расчёт для ФИН'!Q16 -> 20177 | E12: ='[4]Расчёт для ФИН'!R16 -> 4626
B13: ГБУЗ КО "ГУРЬЕВСКАЯ ЦРБ" | C13: =D13+E13 -> 79789 | D13: ='[4]Расчёт для ФИН'!Q17 -> 60835 | E13: ='[4]Расчёт для ФИН'!R17 -> 18954
B14: ГБУЗ КО "ГУСЕВСКАЯ ЦРБ" | C14: =D14+E14 -> 27601 | D14: ='[4]Расчёт для ФИН'!Q18 -> 22099 | E14: ='[4]Расчёт для ФИН'!R18 -> 5502
B15: ГБУЗ КО "ЗЕЛЕНОГРАДСКАЯ ЦРБ" | C15: =D15+E15 -> 34723 | D15: ='[4]Расчёт для ФИН'!Q19 -> 27908 | E15: ='[4]Расчёт для ФИН'!R19 -> 6815
B16: ГБУЗ КО "НЕСТЕРОВСКАЯ ЦРБ" | C16: =D16+E16 -> 10435 | D16: ='[4]Расчёт для ФИН'!Q20 -> 8429 | E16: ='[4]Расчёт для ФИН'!R20 -> 2006
... B34: Застрахованные, прикрепленные к МО за пределами КО | C34: =D34+E34 -> 566 | D34: ='[4]Расчёт для ФИН'!Q38 -> 446 | E34: ='[4]Расчёт для ФИН'!R38 -> 120
B35: Итого по субъекту | C35: =D35+E35 -> 1058430 | D35: =SUM(D5:D34) -> 847553 | E35: =SUM(E5:E34) -> 210877

Sheet 01.05.2026
B2: Количество прикрепленного населения к медицинским организациям
B3: ="по состоянию на"&" "&TEXT([5]Расчёт!C2,"ДД.ММ.ГГГГ")&" "&"года" -> по состоянию на 01.05.2026 года
B4: НАИМЕНОВАНИЕ МО | C4: (ЧЕЛ.) | D4: ВЗРОСЛЫЕ: | E4: ДЕТИ:
B5: ГБУЗ КО "ГОРОДСКАЯ БОЛЬНИЦА № 3" | C5: =D5+E5 -> 107611 | D5: ='[5]Расчёт для ФИН'!Q9 -> 107611 | E5: ='[5]Расчёт для ФИН'!R9 -> 0
B6: ГБУЗ КО "ГОРОДСКАЯ БОЛЬНИЦА № 2" | C6: =D6+E6 -> 77522 | D6: ='[5]Расчёт для ФИН'!Q10 -> 77522 | E6: ='[5]Расчёт для ФИН'!R10 -> 0
B7: ГБУЗ КО "ГОРОДСКАЯ ПОЛИКЛИНИКА № 3" | C7: =D7+E7 -> 12098 | D7: ='[5]Расчёт для ФИН'!Q11 -> 12098 | E7: ='[5]Расчёт для ФИН'!R11 -> 0
B8: ГБУЗ КО "БАЛТИЙСКАЯ ЦРБ" | C8: =D8+E8 -> 24918 | D8: ='[5]Расчёт для ФИН'!Q12 -> 19775 | E8: ='[5]Расчёт для ФИН'!R12 -> 5143
B9: ГБУЗ КО "СВЕТЛОВСКАЯ ЦГБ" | C9: =D9+E9 -> 26634 | D9: ='[5]Расчёт для ФИН'!Q13 -> 22030 | E9: ='[5]Расчёт для ФИН'!R13 -> 4604
B10: ГБУЗ КО "СОВЕТСКАЯ ЦГБ" | C10: =D10+E10 -> 32110 | D10: ='[5]Расчёт для ФИН'!Q14 -> 26548 | E10: ='[5]Расчёт для ФИН'!R14 -> 5562
B11: ГБУЗ КО "БАГРАТИОНОВСКАЯ ЦРБ" | C11: =D11+E11 -> 23028 | D11: ='[5]Расчёт для ФИН'!Q15 -> 18464 | E11: ='[5]Расчёт для ФИН'!R15 -> 4564
B12: ГБУЗ КО "ГВАРДЕЙСКАЯ ЦРБ" | C12: =D12+E12 -> 24786 | D12: ='[5]Расчёт для ФИН'!Q16 -> 20183 | E12: ='[5]Расчёт для ФИН'!R16 -> 4603
B13: ГБУЗ КО "ГУРЬЕВСКАЯ ЦРБ" | C13: =D13+E13 -> 80197 | D13: ='[5]Расчёт для ФИН'!Q17 -> 61134 | E13: ='[5]Расчёт для ФИН'!R17 -> 19063
B14: ГБУЗ КО "ГУСЕВСКАЯ ЦРБ" | C14: =D14+E14 -> 27598 | D14: ='[5]Расчёт для ФИН'!Q18 -> 22112 | E14: ='[5]Расчёт для ФИН'!R18 -> 5486
B15: ГБУЗ КО "ЗЕЛЕНОГРАДСКАЯ ЦРБ" | C15: =D15+E15 -> 34713 | D15: ='[5]Расчёт для ФИН'!Q19 -> 27909 | E15: ='[5]Расчёт для ФИН'!R19 -> 6804
B16: ГБУЗ КО "НЕСТЕРОВСКАЯ ЦРБ" | C16: =D16+E16 -> 10403 | D16: ='[5]Расчёт для ФИН'!Q20 -> 8410 | E16: ='[5]Расчёт для ФИН'!R20 -> 1993
... B35: Итого по субъекту | C35: =D35+E35 -> 1058908 | D35: ='[5]Расчёт для ФИН'!Q39 -> 848508 | E35: ='[5]Расчёт для ФИН'!R39 -> 210400

Sheet 01.06.2026
B2: Количество прикрепленного населения к медицинским организациям
B3: ="по состоянию на"&" "&TEXT([6]Расчёт!C2,"ДД.ММ.ГГГГ")&" "&"года" -> по состоянию на 01.06.2026 года
B4: НАИМЕНОВАНИЕ МО | C4: (ЧЕЛ.) | D4: ВЗРОСЛЫЕ: | E4: ДЕТИ:
B5: ГБУЗ КО "ГОРОДСКАЯ БОЛЬНИЦА № 3" | C5: =D5+E5 -> 107756 | D5: ='[6]Расчёт для ФИН'!Q9 -> 107756 | E5: ='[6]Расчёт для ФИН'!R9 -> 0
B6: ГБУЗ КО "ГОРОДСКАЯ БОЛЬНИЦА № 2" | C6: =D6+E6 -> 77599 | D6: ='[6]Расчёт для ФИН'!Q10 -> 77599 | E6: ='[6]Расчёт для ФИН'!R10 -> 0
B7: ГБУЗ КО "ГОРОДСКАЯ ПОЛИКЛИНИКА № 3" | C7: =D7+E7 -> 12101 | D7: ='[6]Расчёт для ФИН'!Q11 -> 12101 | E7: ='[6]Расчёт для ФИН'!R11 -> 0
B8: ГБУЗ КО "БАЛТИЙСКАЯ ЦРБ" | C8: =D8+E8 -> 24887 | D8: ='[6]Расчёт для ФИН'!Q12 -> 19758 | E8: ='[6]Расчёт для ФИН'!R12 -> 5129
B9: ГБУЗ КО "СВЕТЛОВСКАЯ ЦГБ" | C9: =D9+E9 -> 26580 | D9: ='[6]Расчёт для ФИН'!Q13 -> 22000 | E9: ='[6]Расчёт для ФИН'!R13 -> 4580
B10: ГБУЗ КО "СОВЕТСКАЯ ЦГБ" | C10: =D10+E10 -> 32066 | D10: ='[6]Расчёт для ФИН'!Q14 -> 26525 | E10: ='[6]Расчёт для ФИН'!R14 -> 5541
B11: ГБУЗ КО "БАГРАТИОНОВСКАЯ ЦРБ" | C11: =D11+E11 -> 23034 | D11: ='[6]Расчёт для ФИН'!Q15 -> 18464 | E11: ='[6]Расчёт для ФИН'!R15 -> 4570
B12: ГБУЗ КО "ГВАРДЕЙСКАЯ ЦРБ" | C12: =D12+E12 -> 24764 | D12: ='[6]Расчёт для ФИН'!Q16 -> 20172 | E12: ='[6]Расчёт для ФИН'!R16 -> 4592
B13: ГБУЗ КО "ГУРЬЕВСКАЯ ЦРБ" | C13: =D13+E13 -> 80373 | D13: ='[6]Расчёт для ФИН'!Q17 -> 61246 | E13: ='[6]Расчёт для ФИН'!R17 -> 19127
B14: ГБУЗ КО "ГУСЕВСКАЯ ЦРБ" | C14: =D14+E14 -> 27580 | D14: ='[6]Расчёт для ФИН'!Q18 -> 22093 | E14: ='[6]Расчёт для ФИН'!R18 -> 5487
B15: ГБУЗ КО "ЗЕЛЕНОГРАДСКАЯ ЦРБ" | C15: =D15+E15 -> 34716 | D15: ='[6]Расчёт для ФИН'!Q19 -> 27958 | E15: ='[6]Расчёт для ФИН'!R19 -> 6758
B16: ГБУЗ КО "НЕСТЕРОВСКАЯ ЦРБ" | C16: =D16+E16 -> 10400 | D16: ='[6]Расчёт для ФИН'!Q20 -> 8422 | E16: ='[6]Расчёт для ФИН'!R20 -> 1978
... B34: Застрахованные, прикрепленные к МО за пределами КО | C34: =D34+E34 -> 743 | D34: ='[6]Расчёт для ФИН'!Q38 -> 591 | E34: ='[6]Расчёт для ФИН'!R38 -> 152
B35: Итого по субъекту | C35: =D35+E35 -> 1059504 | D35: =SUM(D5:D34) -> 849434 | E35: ='[6]Расчёт для ФИН'!R39 -> 210070

Sheet 01.07.2026
B2: Количество прикрепленного населения к медицинским организациям
B3: ="по состоянию на"&" "&TEXT([7]Расчёт!C2,"ДД.ММ.ГГГГ")&" "&"года" -> по состоянию на 01.07.2026 года
B4: НАИМЕНОВАНИЕ МО | C4: (ЧЕЛ.) | D4: ВЗРОСЛЫЕ: | E4: ДЕТИ:
B5: ГБУЗ КО "ГОРОДСКАЯ БОЛЬНИЦА № 3" | C5: =D5+E5 -> 108013 | D5: ='[7]Расчёт для ФИН'!Q9 -> 108013 | E5: ='[7]Расчёт для ФИН'!R9 -> 0
B6: ГБУЗ КО "ГОРОДСКАЯ БОЛЬНИЦА № 2" | C6: =D6+E6 -> 77819 | D6: ='[7]Расчёт для ФИН'!Q10 -> 77819 | E6: ='[7]Расчёт для ФИН'!R10 -> 0
B7: ГБУЗ КО "ГОРОДСКАЯ ПОЛИКЛИНИКА № 3" | C7: =D7+E7 -> 12099 | D7: ='[7]Расчёт для ФИН'!Q11 -> 12099 | E7: ='[7]Расчёт для ФИН'!R11 -> 0
B8: ГБУЗ КО "БАЛТИЙСКАЯ ЦРБ" | C8: =D8+E8 -> 24895 | D8: ='[7]Расчёт для ФИН'!Q12 -> 19765 | E8: ='[7]Расчёт для ФИН'!R12 -> 5130
B9: ГБУЗ КО "СВЕТЛОВСКАЯ ЦГБ" | C9: =D9+E9 -> 26629 | D9: ='[7]Расчёт для ФИН'!Q13 -> 22057 | E9: ='[7]Расчёт для ФИН'!R13 -> 4572
B10: ГБУЗ КО "СОВЕТСКАЯ ЦГБ" | C10: =D10+E10 -> 32066 | D10: ='[7]Расчёт для ФИН'!Q14 -> 26541 | E10: ='[7]Расчёт для ФИН'!R14 -> 5525
B11: ГБУЗ КО "БАГРАТИОНОВСКАЯ ЦРБ" | C11: =D11+E11 -> 23053 | D11: ='[7]Расчёт для ФИН'!Q15 -> 18501 | E11: ='[7]Расчёт для ФИН'!R15 -> 4552
B12: ГБУЗ КО "ГВАРДЕЙСКАЯ ЦРБ" | C12: =D12+E12 -> 24759 | D12: ='[7]Расчёт для ФИН'!Q16 -> 20184 | E12: ='[7]Расчёт для ФИН'!R16 -> 4575
B13: ГБУЗ КО "ГУРЬЕВСКАЯ ЦРБ" | C13: =D13+E13 -> 80863 | D13: ='[7]Расчёт для ФИН'!Q17 -> 61680 | E13: ='[7]Расчёт для ФИН'!R17 -> 19183
B14: ГБУЗ КО "ГУСЕВСКАЯ ЦРБ" | C14: =D14+E14 -> 27586 | D14: ='[7]Расчёт для ФИН'!Q18 -> 22117 | E14: ='[7]Расчёт для ФИН'!R18 -> 5469
B15: ГБУЗ КО "ЗЕЛЕНОГРАДСКАЯ ЦРБ" | C15: =D15+E15 -> 34831 | D15: ='[7]Расчёт для ФИН'!Q19 -> 28068 | E15: ='[7]Расчёт для ФИН'!R19 -> 6763
B16: ГБУЗ КО "НЕСТЕРОВСКАЯ ЦРБ" | C16: =D16+E16 -> 10398 | D16: ='[7]Расчёт для ФИН'!Q20 -> 8427 | E16: ='[7]Расчёт для ФИН'!R20 -> 1971
... B34: Застрахованные, прикрепленные к МО за пределами КО | C34: =D34+E34 -> 963 | D34: ='[7]Расчёт для ФИН'!Q38 -> 779 | E34: ='[7]Расчёт для ФИН'!R38 -> 184
B35: Итого по субъекту | C35: =D35+E35 -> 1060972 | D35: =SUM(D5:D34) -> 851352 | E35: =SUM(E5:E34) -> 209620

Sheet 01.08.2026
B2: Количество прикрепленного населения к медицинским организациям
B3: ="по состоянию на"&" "&TEXT([8]Расчёт!C2,"ДД.ММ.ГГГГ")&" "&"года" -> по состоянию на 01.08.2026 года
B4: НАИМЕНОВАНИЕ МО | C4: (ЧЕЛ.) | D4: ВЗРОСЛЫЕ: | E4: ДЕТИ:
B5: ГБУЗ КО "ГОРОДСКАЯ БОЛЬНИЦА № 3" | C5: =D5+E5 -> 108266 | D5: ='[8]Расчёт для ФИН'!Q9 -> 108266 | E5: ='[8]Расчёт для ФИН'!R9 -> 0
B6: ГБУЗ КО "ГОРОДСКАЯ БОЛЬНИЦА № 2" | C6: =D6+E6 -> 77848 | D6: ='[8]Расчёт для ФИН'!Q10 -> 77848 | E6: ='[8]Расчёт для ФИН'!R10 -> 0
B7: ГБУЗ КО "ГОРОДСКАЯ ПОЛИКЛИНИКА № 3" | C7: =D7+E7 -> 12099 | D7: ='[8]Расчёт для ФИН'!Q11 -> 12099 | E7: ='[8]Расчёт для ФИН'!R11 -> 0
B8: ГБУЗ КО "БАЛТИЙСКАЯ ЦРБ" | C8: =D8+E8 -> 24832 | D8: ='[8]Расчёт для ФИН'!Q12 -> 19729 | E8: ='[8]Расчёт для ФИН'!R12 -> 5103
B9: ГБУЗ КО "СВЕТЛОВСКАЯ ЦГБ" | C9: =D9+E9 -> 26592 | D9: ='[8]Расчёт для ФИН'!Q13 -> 22042 | E9: ='[8]Расчёт для ФИН'!R13 -> 4550
B10: ГБУЗ КО "СОВЕТСКАЯ ЦГБ" | C10: =D10+E10 -> 31966 | D10: ='[8]Расчёт для ФИН'!Q14 -> 26439 | E10: ='[8]Расчёт для ФИН'!R14 -> 5527
B11: ГБУЗ КО "БАГРАТИОНОВСКАЯ ЦРБ" | C11: =D11+E11 -> 22957 | D11: ='[8]Расчёт для ФИН'!Q15 -> 18436 | E11: ='[8]Расчёт для ФИН'!R15 -> 4521
B12: ГБУЗ КО "ГВАРДЕЙСКАЯ ЦРБ" | C12: =D12+E12 -> 24683 | D12: ='[8]Расчёт для ФИН'!Q16 -> 20135 | E12: ='[8]Расчёт для ФИН'!R16 -> 4548
B13: ГБУЗ КО "ГУРЬЕВСКАЯ ЦРБ" | C13: =D13+E13 -> 81066 | D13: ='[8]Расчёт для ФИН'!Q17 -> 61789 | E13: ='[8]Расчёт для ФИН'!R17 -> 19277
B14: ГБУЗ КО "ГУСЕВСКАЯ ЦРБ" | C14: =D14+E14 -> 27517 | D14: ='[8]Расчёт для ФИН'!Q18 -> 22073 | E14: ='[8]Расчёт для ФИН'!R18 -> 5444
B15: ГБУЗ КО "ЗЕЛЕНОГРАДСКАЯ ЦРБ" | C15: =D15+E15 -> 34884 | D15: ='[8]Расчёт для ФИН'!Q19 -> 28106 | E15: ='[8]Расчёт для ФИН'!R19 -> 6778
B16: ГБУЗ КО "НЕСТЕРОВСКАЯ ЦРБ" | C16: =D16+E16 -> 10365 | D16: ='[8]Расчёт для ФИН'!Q20 -> 8400 | E16: ='[8]Расчёт для ФИН'!R20 -> 1965
... B34: Застрахованные, прикрепленные к МО за пределами КО | C34: =D34+E34 -> 963 | D34: ='[8]Расчёт для ФИН'!Q38 -> 764 | E34: ='[8]Расчёт для ФИН'!R38 -> 199
B35: Итого по субъекту | C35: =D35+E35 -> 1060509 | D35: =SUM(D5:D34) -> 851238 | E35: =SUM(E5:E34) -> 209271

Sheet 01.09.2026
B2: Количество прикрепленного населения к медицинским организациям
B3: ="по состоянию на"&" "&TEXT([10]Расчёт!C2,"ДД.ММ.ГГГГ")&" "&"года" -> по состоянию на 01.09.2026 года
B4: НАИМЕНОВАНИЕ МО | C4: (ЧЕЛ.) | D4: ВЗРОСЛЫЕ: | E4: ДЕТИ:
B5: ГБУЗ КО "ГОРОДСКАЯ БОЛЬНИЦА № 3" | C5: =D5+E5 -> 108421 | D5: ='[10]Расчёт для ФИН'!Q9 -> 108421 | E5: ='[10]Расчёт для ФИН'!R9 -> 0
B6: ГБУЗ КО "ГОРОДСКАЯ БОЛЬНИЦА № 2" | C6: =D6+E6 -> 78034 | D6: ='[10]Расчёт для ФИН'!Q10 -> 78034 | E6: ='[10]Расчёт для ФИН'!R10 -> 0
B7: ГБУЗ КО "ГОРОДСКАЯ ПОЛИКЛИНИКА № 3" | C7: =D7+E7 -> 12107 | D7: ='[10]Расчёт для ФИН'!Q11 -> 12107 | E7: ='[10]Расчёт для ФИН'!R11 -> 0
B8: ГБУЗ КО "БАЛТИЙСКАЯ ЦРБ" | C8: =D8+E8 -> 24800 | D8: ='[10]Расчёт для ФИН'!Q12 -> 19722 | E8: ='[10]Расчёт для ФИН'!R12 -> 5078
B9: ГБУЗ КО "СВЕТЛОВСКАЯ ЦГБ" | C9: =D9+E9 -> 26572 | D9: ='[10]Расчёт для ФИН'!Q13 -> 22038 | E9: ='[10]Расчёт для ФИН'!R13 -> 4534
B10: ГБУЗ КО "СОВЕТСКАЯ ЦГБ" | C10: =D10+E10 -> 31930 | D10: ='[10]Расчёт для ФИН'!Q14 -> 26403 | E10: ='[10]Расчёт для ФИН'!R14 -> 5527
B11: ГБУЗ КО "БАГРАТИОНОВСКАЯ ЦРБ" | C11: =D11+E11 -> 22912 | D11: ='[10]Расчёт для ФИН'!Q15 -> 18419 | E11: ='[10]Расчёт для ФИН'!R15 -> 4493
B12: ГБУЗ КО "ГВАРДЕЙСКАЯ ЦРБ" | C12: =D12+E12 -> 24652 | D12: ='[10]Расчёт для ФИН'!Q16 -> 20111 | E12: ='[10]Расчёт для ФИН'!R16 -> 4541
B13: ГБУЗ КО "ГУРЬЕВСКАЯ ЦРБ" | C13: =D13+E13 -> 81337 | D13: ='[10]Расчёт для ФИН'!Q17 -> 62003 | E13: ='[10]Расчёт для ФИН'!R17 -> 19334
B14: ГБУЗ КО "ГУСЕВСКАЯ ЦРБ" | C14: =D14+E14 -> 27470 | D14: ='[10]Расчёт для ФИН'!Q18 -> 22057 | E14: ='[10]Расчёт для ФИН'!R18 -> 5413
B15: ГБУЗ КО "ЗЕЛЕНОГРАДСКАЯ ЦРБ" | C15: =D15+E15 -> 34923 | D15: ='[10]Расчёт для ФИН'!Q19 -> 28135 | E15: ='[10]Расчёт для ФИН'!R19 -> 6788
B16: ГБУЗ КО "НЕСТЕРОВСКАЯ ЦРБ" | C16: =D16+E16 -> 10345 | D16: ='[10]Расчёт для ФИН'!Q20 -> 8404 | E16: ='[10]Расчёт для ФИН'!R20 -> 1941
... B34: Застрахованные, прикрепленные к МО за пределами КО | C34: =D34+E34 -> 1028 | D34: ='[10]Расчёт для ФИН'!Q38 -> 825 | E34: ='[10]Расчёт для ФИН'!R38 -> 203
B35: Итого по субъекту | C35: =D35+E35 -> 1061454 | D35: =SUM(D5:D34) -> 852406 | E35: =SUM(E5:E34) -> 209048

Sheet 01.10.2026
B2: Количество прикрепленного населения к медицинским организациям
B3: ="по состоянию на"&" "&TEXT([9]Расчёт!C2,"ДД.ММ.ГГГГ")&" "&"года" -> по состоянию на 01.10.2026 года
B4: НАИМЕНОВАНИЕ МО | C4: (ЧЕЛ.) | D4: ВЗРОСЛЫЕ: | E4: ДЕТИ:
B5: ГБУЗ КО "ГОРОДСКАЯ БОЛЬНИЦА № 3" | C5: =D5+E5 -> 108654 | D5: ='[9]Расчёт для ФИН'!Q9 -> 108654 | E5: ='[9]Расчёт для ФИН'!R9 -> 0
B6: ГБУЗ КО "ГОРОДСКАЯ БОЛЬНИЦА № 2" | C6: =D6+E6 -> 78130 | D6: ='[9]Расчёт для ФИН'!Q10 -> 78130 | E6: ='[9]Расчёт для ФИН'!R10 -> 0
B7: ГБУЗ КО "ГОРОДСКАЯ ПОЛИКЛИНИКА № 3" | C7: =D7+E7 -> 12110 | D7: ='[9]Расчёт для ФИН'!Q11 -> 12110 | E7: ='[9]Расчёт для ФИН'!R11 -> 0
B8: ГБУЗ КО "БАЛТИЙСКАЯ ЦРБ" | C8: =D8+E8 -> 24726 | D8: ='[9]Расчёт для ФИН'!Q12 -> 19692 | E8: ='[9]Расчёт для ФИН'!R12 -> 5034
B9: ГБУЗ КО "СВЕТЛОВСКАЯ ЦГБ" | C9: =D9+E9 -> 26580 | D9: ='[9]Расчёт для ФИН'!Q13 -> 22049 | E9: ='[9]Расчёт для ФИН'!R13 -> 4531
B10: ГБУЗ КО "СОВЕТСКАЯ ЦГБ" | C10: =D10+E10 -> 31852 | D10: ='[9]Расчёт для ФИН'!Q14 -> 26345 | E10: ='[9]Расчёт для ФИН'!R14 -> 5507
B11: ГБУЗ КО "БАГРАТИОНОВСКАЯ ЦРБ" | C11: =D11+E11 -> 22844 | D11: ='[9]Расчёт для ФИН'!Q15 -> 18372 | E11: ='[9]Расчёт для ФИН'!R15 -> 4472
B12: ГБУЗ КО "ГВАРДЕЙСКАЯ ЦРБ" | C12: =D12+E12 -> 24646 | D12: ='[9]Расчёт для ФИН'!Q16 -> 20094 | E12: ='[9]Расчёт для ФИН'!R16 -> 4552
B13: ГБУЗ КО "ГУРЬЕВСКАЯ ЦРБ" | C13: =D13+E13 -> 81744 | D13: ='[9]Расчёт для ФИН'!Q17 -> 62298 | E13: ='[9]Расчёт для ФИН'!R17 -> 19446
B14: ГБУЗ КО "ГУСЕВСКАЯ ЦРБ" | C14: =D14+E14 -> 27403 | D14: ='[9]Расчёт для ФИН'!Q18 -> 22025 | E14: ='[9]Расчёт для ФИН'!R18 -> 5378
B15: ГБУЗ КО "ЗЕЛЕНОГРАДСКАЯ ЦРБ" | C15: =D15+E15 -> 34937 | D15: ='[9]Расчёт для ФИН'!Q19 -> 28159 | E15: ='[9]Расчёт для ФИН'!R19 -> 6778
B16: ГБУЗ КО "НЕСТЕРОВСКАЯ ЦРБ" | C16: =D16+E16 -> 10369 | D16: ='[9]Расчёт для ФИН'!Q20 -> 8402 | E16: ='[9]Расчёт для ФИН'!R20 -> 1967
... B34: Застрахованные, прикрепленные к МО за пределами КО | C34: =D34+E34 -> 1133 | D34: ='[9]Расчёт для ФИН'!Q38 -> 912 | E34: ='[9]Расчёт для ФИН'!R38 -> 221
B35: Итого по субъекту | C35: =D35+E35 -> 1061873 | D35: =SUM(D5:D34) -> 853324 | E35: =SUM(E5:E34) -> 208549
